BEGIN:VCALENDAR
VERSION:2.0
PRODID:-//StreamRadar//Match Calendar//EN
CALSCALE:GREGORIAN
METHOD:PUBLISH
X-WR-CALNAME:Métlaoui vs ES Tunis
X-WR-TIMEZONE:America/New_York
BEGIN:VEVENT
UID:match-5551843@streamradar.soccer
SUMMARY:Métlaoui vs ES Tunis
DTSTAMP:20260424T011041Z
DTSTART;TZID=America/New_York:20260213T012400
DTEND;TZID=America/New_York:20260213T032400
LOCATION:Metlaoui Municipal stadium
DESCRIPTION:Tempat menonton Métlaoui vs ES Tunis di Tunisia - Ligue Profes
 sionnelle 1. Siaran langsung dan jadwal TV.\nhttps://streamradar.soccer/id/
 match/5551843/metlaoui-vs-es-tunis/
URL;VALUE=URI:https://streamradar.soccer/id/match/5551843/metlaoui-vs-es-tu
 nis/
STATUS:CONFIRMED
END:VEVENT
END:VCALENDAR
