BEGIN:VCALENDAR
VERSION:2.0
PRODID:-//StreamRadar//Match Calendar//EN
CALSCALE:GREGORIAN
METHOD:PUBLISH
X-WR-CALNAME:Oberwart vs Voitsberg
X-WR-TIMEZONE:America/New_York
BEGIN:VEVENT
UID:match-5551781@streamradar.soccer
SUMMARY:Oberwart vs Voitsberg
DTSTAMP:20260424T034450Z
DTSTART;TZID=America/New_York:20260213T100000
DTEND;TZID=America/New_York:20260213T120000
LOCATION:Informstadion (Oberwart)
DESCRIPTION:Tempat menonton Oberwart vs Voitsberg di Laga Persahabatan Anta
 r Klub. Siaran langsung dan jadwal TV.\nhttps://streamradar.soccer/id/match
 /5551781/oberwart-vs-voitsberg/
URL;VALUE=URI:https://streamradar.soccer/id/match/5551781/oberwart-vs-voits
 berg/
STATUS:CONFIRMED
END:VEVENT
END:VCALENDAR
