BEGIN:VCALENDAR
VERSION:2.0
PRODID:-//StreamRadar//Match Calendar//EN
CALSCALE:GREGORIAN
METHOD:PUBLISH
X-WR-CALNAME:EB / Streymur vs B36
X-WR-TIMEZONE:America/New_York
BEGIN:VEVENT
UID:match-5535056@streamradar.soccer
SUMMARY:EB / Streymur vs B36
DTSTAMP:20260422T052642Z
DTSTART;TZID=America/New_York:20260913T100000
DTEND;TZID=America/New_York:20260913T120000
DESCRIPTION:Tempat menonton EB / Streymur vs B36 di Kepulauan Faroe - Premi
 er League Faroe Islands. Siaran langsung dan jadwal TV.\nhttps://streamrada
 r.soccer/id/match/5535056/eb-streymur-vs-b36/
URL;VALUE=URI:https://streamradar.soccer/id/match/5535056/eb-streymur-vs-b3
 6/
STATUS:CONFIRMED
END:VEVENT
END:VCALENDAR
