BEGIN:VCALENDAR
VERSION:2.0
PRODID:-//StreamRadar//Match Calendar//EN
CALSCALE:GREGORIAN
METHOD:PUBLISH
X-WR-CALNAME:FBK Karlstad vs Sollentuna
X-WR-TIMEZONE:America/New_York
BEGIN:VEVENT
UID:match-5534520@streamradar.soccer
SUMMARY:FBK Karlstad vs Sollentuna
DTSTAMP:20260422T052807Z
DTSTART;TZID=America/New_York:20260919T100000
DTEND;TZID=America/New_York:20260919T120000
DESCRIPTION:Tempat menonton FBK Karlstad vs Sollentuna di Swedia - Ettan. S
 iaran langsung dan jadwal TV.\nhttps://streamradar.soccer/id/match/5534520/
 fbk-karlstad-vs-sollentuna/
URL;VALUE=URI:https://streamradar.soccer/id/match/5534520/fbk-karlstad-vs-s
 ollentuna/
STATUS:CONFIRMED
END:VEVENT
END:VCALENDAR
