BEGIN:VCALENDAR
VERSION:2.0
PRODID:-//StreamRadar//Match Calendar//EN
CALSCALE:GREGORIAN
METHOD:PUBLISH
X-WR-CALNAME:Deportivo Muñiz vs Sportivo Barracas
X-WR-TIMEZONE:America/New_York
BEGIN:VEVENT
UID:match-5534215@streamradar.soccer
SUMMARY:Deportivo Muñiz vs Sportivo Barracas
DTSTAMP:20260421T165828Z
DTSTART;TZID=America/New_York:20260905T160000
DTEND;TZID=America/New_York:20260905T180000
DESCRIPTION:Tempat menonton Deportivo Muñiz vs Sportivo Barracas di Argent
 ina - Primera C Metropolitana. Siaran langsung dan jadwal TV.\nhttps://stre
 amradar.soccer/id/match/5534215/deportivo-muniz-vs-sportivo-barracas/
URL;VALUE=URI:https://streamradar.soccer/id/match/5534215/deportivo-muniz-v
 s-sportivo-barracas/
STATUS:CONFIRMED
END:VEVENT
END:VCALENDAR
