BEGIN:VCALENDAR
VERSION:2.0
PRODID:-//StreamRadar//Match Calendar//EN
CALSCALE:GREGORIAN
METHOD:PUBLISH
X-WR-CALNAME:Sangju Sangmu vs Gangwon
X-WR-TIMEZONE:America/New_York
BEGIN:VEVENT
UID:match-5533817@streamradar.soccer
SUMMARY:Sangju Sangmu vs Gangwon
DTSTAMP:20260422T000442Z
DTSTART;TZID=America/New_York:20260913T033000
DTEND;TZID=America/New_York:20260913T053000
LOCATION:Gimcheon Stadium
DESCRIPTION:Tempat menonton Sangju Sangmu vs Gangwon di Republik Korea - K 
 League 1. Siaran langsung dan jadwal TV.\nhttps://streamradar.soccer/id/mat
 ch/5533817/sangju-sangmu-vs-gangwon/
URL;VALUE=URI:https://streamradar.soccer/id/match/5533817/sangju-sangmu-vs-
 gangwon/
STATUS:CONFIRMED
END:VEVENT
END:VCALENDAR
