BEGIN:VCALENDAR
VERSION:2.0
PRODID:-//StreamRadar//Match Calendar//EN
CALSCALE:GREGORIAN
METHOD:PUBLISH
X-WR-CALNAME:Anyang vs Gangwon
X-WR-TIMEZONE:America/New_York
BEGIN:VEVENT
UID:match-5533805@streamradar.soccer
SUMMARY:Anyang vs Gangwon
DTSTAMP:20260422T000459Z
DTSTART;TZID=America/New_York:20260906T060000
DTEND;TZID=America/New_York:20260906T080000
LOCATION:Anyang Stadium
DESCRIPTION:Tempat menonton Anyang vs Gangwon di Republik Korea - K League 
 1. Siaran langsung dan jadwal TV.\nhttps://streamradar.soccer/id/match/5533
 805/anyang-vs-gangwon/
URL;VALUE=URI:https://streamradar.soccer/id/match/5533805/anyang-vs-gangwon
 /
STATUS:CONFIRMED
END:VEVENT
END:VCALENDAR
