BEGIN:VCALENDAR
VERSION:2.0
PRODID:-//StreamRadar//Match Calendar//EN
CALSCALE:GREGORIAN
METHOD:PUBLISH
X-WR-CALNAME:Bucheon 1995 vs Anyang
X-WR-TIMEZONE:America/New_York
BEGIN:VEVENT
UID:match-5533756@streamradar.soccer
SUMMARY:Bucheon 1995 vs Anyang
DTSTAMP:20260422T015526Z
DTSTART;TZID=America/New_York:20260722T063000
DTEND;TZID=America/New_York:20260722T083000
LOCATION:Bucheon Stadium
DESCRIPTION:Tempat menonton Bucheon 1995 vs Anyang di Republik Korea - K Le
 ague 1. Siaran langsung dan jadwal TV.\nhttps://streamradar.soccer/id/match
 /5533756/bucheon-1995-vs-anyang/
URL;VALUE=URI:https://streamradar.soccer/id/match/5533756/bucheon-1995-vs-a
 nyang/
STATUS:CONFIRMED
END:VEVENT
END:VCALENDAR
