BEGIN:VCALENDAR
VERSION:2.0
PRODID:-//StreamRadar//Match Calendar//EN
CALSCALE:GREGORIAN
METHOD:PUBLISH
X-WR-CALNAME:Landskrona vs GIF Sundsvall
X-WR-TIMEZONE:America/New_York
BEGIN:VEVENT
UID:match-5531900@streamradar.soccer
SUMMARY:Landskrona vs GIF Sundsvall
DTSTAMP:20260421T233054Z
DTSTART;TZID=America/New_York:20260913T090000
DTEND;TZID=America/New_York:20260913T110000
LOCATION:Landskrona Idrottsplats
DESCRIPTION:Tempat menonton Landskrona vs GIF Sundsvall di Swedia - Superet
 tan. Siaran langsung dan jadwal TV.\nhttps://streamradar.soccer/id/match/55
 31900/landskrona-vs-gif-sundsvall/
URL;VALUE=URI:https://streamradar.soccer/id/match/5531900/landskrona-vs-gif
 -sundsvall/
STATUS:CONFIRMED
END:VEVENT
END:VCALENDAR
