BEGIN:VCALENDAR
VERSION:2.0
PRODID:-//StreamRadar//Match Calendar//EN
CALSCALE:GREGORIAN
METHOD:PUBLISH
X-WR-CALNAME:Levanger vs Follo
X-WR-TIMEZONE:America/New_York
BEGIN:VEVENT
UID:match-5508967@streamradar.soccer
SUMMARY:Levanger vs Follo
DTSTAMP:20260421T093005Z
DTSTART;TZID=America/New_York:20260912T063000
DTEND;TZID=America/New_York:20260912T083000
LOCATION:Tobb Arena Levanger
DESCRIPTION:Tempat menonton Levanger vs Follo di Norwegia - 2. Divisjon. Si
 aran langsung dan jadwal TV.\nhttps://streamradar.soccer/id/match/5508967/l
 evanger-vs-follo/
URL;VALUE=URI:https://streamradar.soccer/id/match/5508967/levanger-vs-follo
 /
STATUS:CONFIRMED
END:VEVENT
END:VCALENDAR
