BEGIN:VCALENDAR
VERSION:2.0
PRODID:-//StreamRadar//Match Calendar//EN
CALSCALE:GREGORIAN
METHOD:PUBLISH
X-WR-CALNAME:Brann vs Bodø / Glimt
X-WR-TIMEZONE:America/New_York
BEGIN:VEVENT
UID:match-5506735@streamradar.soccer
SUMMARY:Brann vs Bodø / Glimt
DTSTAMP:20260425T174341Z
DTSTART;TZID=America/New_York:20260920T110000
DTEND;TZID=America/New_York:20260920T130000
LOCATION:Brann Stadion
DESCRIPTION:Tempat menonton Brann vs Bodø / Glimt di Norwegia - Eliteserie
 n. Siaran langsung dan jadwal TV.\nhttps://streamradar.soccer/id/match/5506
 735/brann-vs-bodo-glimt/
URL;VALUE=URI:https://streamradar.soccer/id/match/5506735/brann-vs-bodo-gli
 mt/
STATUS:CONFIRMED
END:VEVENT
END:VCALENDAR
