BEGIN:VCALENDAR
VERSION:2.0
PRODID:-//StreamRadar//Match Calendar//EN
CALSCALE:GREGORIAN
METHOD:PUBLISH
X-WR-CALNAME:Rosenborg vs Tromsø
X-WR-TIMEZONE:America/New_York
BEGIN:VEVENT
UID:match-5506732@streamradar.soccer
SUMMARY:Rosenborg vs Tromsø
DTSTAMP:20260421T112243Z
DTSTART;TZID=America/New_York:20260913T110000
DTEND;TZID=America/New_York:20260913T130000
LOCATION:Lerkendal Stadion
DESCRIPTION:Tempat menonton Rosenborg vs Tromsø di Norwegia - Eliteserien.
  Siaran langsung dan jadwal TV.\nhttps://streamradar.soccer/id/match/550673
 2/rosenborg-vs-tromso/
URL;VALUE=URI:https://streamradar.soccer/id/match/5506732/rosenborg-vs-trom
 so/
STATUS:CONFIRMED
END:VEVENT
END:VCALENDAR
