BEGIN:VCALENDAR
VERSION:2.0
PRODID:-//StreamRadar//Match Calendar//EN
CALSCALE:GREGORIAN
METHOD:PUBLISH
X-WR-CALNAME:Elfsborg vs Kalmar
X-WR-TIMEZONE:America/New_York
BEGIN:VEVENT
UID:match-5505850@streamradar.soccer
SUMMARY:Elfsborg vs Kalmar
DTSTAMP:20260421T095807Z
DTSTART;TZID=America/New_York:20260913T090000
DTEND;TZID=America/New_York:20260913T110000
DESCRIPTION:Tempat menonton Elfsborg vs Kalmar di Swedia - Allsvenskan. Sia
 ran langsung dan jadwal TV.\nhttps://streamradar.soccer/id/match/5505850/el
 fsborg-vs-kalmar/
URL;VALUE=URI:https://streamradar.soccer/id/match/5505850/elfsborg-vs-kalma
 r/
STATUS:CONFIRMED
END:VEVENT
END:VCALENDAR
