BEGIN:VCALENDAR
VERSION:2.0
PRODID:-//StreamRadar//Match Calendar//EN
CALSCALE:GREGORIAN
METHOD:PUBLISH
X-WR-CALNAME:Real Salt Lake vs Vancouver Whitecaps
X-WR-TIMEZONE:America/New_York
BEGIN:VEVENT
UID:match-5505188@streamradar.soccer
SUMMARY:Real Salt Lake vs Vancouver Whitecaps
DTSTAMP:20260425T162456Z
DTSTART;TZID=America/New_York:20260919T213000
DTEND;TZID=America/New_York:20260919T233000
LOCATION:America First Field
DESCRIPTION:Tempat menonton Real Salt Lake vs Vancouver Whitecaps di Liga S
 epakbola Utama Amerika Serika. Siaran langsung dan jadwal TV.\nhttps://stre
 amradar.soccer/id/match/5505188/real-salt-lake-vs-vancouver-whitecaps/
URL;VALUE=URI:https://streamradar.soccer/id/match/5505188/real-salt-lake-vs
 -vancouver-whitecaps/
STATUS:CONFIRMED
END:VEVENT
END:VCALENDAR
