BEGIN:VCALENDAR
VERSION:2.0
PRODID:-//StreamRadar//Match Calendar//EN
CALSCALE:GREGORIAN
METHOD:PUBLISH
X-WR-CALNAME:Dallas vs Austin
X-WR-TIMEZONE:America/New_York
BEGIN:VEVENT
UID:match-5505181@streamradar.soccer
SUMMARY:Dallas vs Austin
DTSTAMP:20260424T015939Z
DTSTART;TZID=America/New_York:20260919T203000
DTEND;TZID=America/New_York:20260919T223000
LOCATION:Toyota Stadium
DESCRIPTION:Tempat menonton Dallas vs Austin di Liga Sepakbola Utama Amerik
 a Serika. Siaran langsung dan jadwal TV.\nhttps://streamradar.soccer/id/mat
 ch/5505181/dallas-vs-austin/
URL;VALUE=URI:https://streamradar.soccer/id/match/5505181/dallas-vs-austin/
STATUS:CONFIRMED
END:VEVENT
END:VCALENDAR
