BEGIN:VCALENDAR
VERSION:2.0
PRODID:-//StreamRadar//Match Calendar//EN
CALSCALE:GREGORIAN
METHOD:PUBLISH
X-WR-CALNAME:LA Galaxy vs Seattle Sounders FC
X-WR-TIMEZONE:America/New_York
BEGIN:VEVENT
UID:match-5505171@streamradar.soccer
SUMMARY:LA Galaxy vs Seattle Sounders FC
DTSTAMP:20260425T151103Z
DTSTART;TZID=America/New_York:20260912T223000
DTEND;TZID=America/New_York:20260913T003000
LOCATION:Dignity Health Sports Park
DESCRIPTION:Tempat menonton LA Galaxy vs Seattle Sounders FC di Liga Sepakb
 ola Utama Amerika Serika. Siaran langsung dan jadwal TV.\nhttps://streamrad
 ar.soccer/id/match/5505171/la-galaxy-vs-seattle-sounders-fc/
URL;VALUE=URI:https://streamradar.soccer/id/match/5505171/la-galaxy-vs-seat
 tle-sounders-fc/
STATUS:CONFIRMED
END:VEVENT
END:VCALENDAR
