BEGIN:VCALENDAR
VERSION:2.0
PRODID:-//StreamRadar//Match Calendar//EN
CALSCALE:GREGORIAN
METHOD:PUBLISH
X-WR-CALNAME:Sporting KC vs Los Angeles FC
X-WR-TIMEZONE:America/New_York
BEGIN:VEVENT
UID:match-5505167@streamradar.soccer
SUMMARY:Sporting KC vs Los Angeles FC
DTSTAMP:20260422T184719Z
DTSTART;TZID=America/New_York:20260912T203000
DTEND;TZID=America/New_York:20260912T223000
DESCRIPTION:Tempat menonton Sporting KC vs Los Angeles FC di Liga Sepakbola
  Utama Amerika Serika. Siaran langsung dan jadwal TV.\nhttps://streamradar.
 soccer/id/match/5505167/sporting-kc-vs-los-angeles-fc/
URL;VALUE=URI:https://streamradar.soccer/id/match/5505167/sporting-kc-vs-lo
 s-angeles-fc/
STATUS:CONFIRMED
END:VEVENT
END:VCALENDAR
