BEGIN:VCALENDAR
VERSION:2.0
PRODID:-//StreamRadar//Match Calendar//EN
CALSCALE:GREGORIAN
METHOD:PUBLISH
X-WR-CALNAME:Orlando City SC vs Toronto FC
X-WR-TIMEZONE:America/New_York
BEGIN:VEVENT
UID:match-5505165@streamradar.soccer
SUMMARY:Orlando City SC vs Toronto FC
DTSTAMP:20260421T182712Z
DTSTART;TZID=America/New_York:20260912T193000
DTEND;TZID=America/New_York:20260912T213000
DESCRIPTION:Tempat menonton Orlando City SC vs Toronto FC di Liga Sepakbola
  Utama Amerika Serika. Siaran langsung dan jadwal TV.\nhttps://streamradar.
 soccer/id/match/5505165/orlando-city-sc-vs-toronto-fc/
URL;VALUE=URI:https://streamradar.soccer/id/match/5505165/orlando-city-sc-v
 s-toronto-fc/
STATUS:CONFIRMED
END:VEVENT
END:VCALENDAR
