BEGIN:VCALENDAR
VERSION:2.0
PRODID:-//StreamRadar//Match Calendar//EN
CALSCALE:GREGORIAN
METHOD:PUBLISH
X-WR-CALNAME:Cincinnati vs Charlotte
X-WR-TIMEZONE:America/New_York
BEGIN:VEVENT
UID:match-5505163@streamradar.soccer
SUMMARY:Cincinnati vs Charlotte
DTSTAMP:20260421T211056Z
DTSTART;TZID=America/New_York:20260912T193000
DTEND;TZID=America/New_York:20260912T213000
LOCATION:TQL Stadium
DESCRIPTION:Tempat menonton Cincinnati vs Charlotte di Liga Sepakbola Utama
  Amerika Serika. Siaran langsung dan jadwal TV.\nhttps://streamradar.soccer
 /id/match/5505163/cincinnati-vs-charlotte/
URL;VALUE=URI:https://streamradar.soccer/id/match/5505163/cincinnati-vs-cha
 rlotte/
STATUS:CONFIRMED
END:VEVENT
END:VCALENDAR
