BEGIN:VCALENDAR
VERSION:2.0
PRODID:-//StreamRadar//Match Calendar//EN
CALSCALE:GREGORIAN
METHOD:PUBLISH
X-WR-CALNAME:DC United vs Atlanta United
X-WR-TIMEZONE:America/New_York
BEGIN:VEVENT
UID:match-5505162@streamradar.soccer
SUMMARY:DC United vs Atlanta United
DTSTAMP:20260421T170632Z
DTSTART;TZID=America/New_York:20260912T193000
DTEND;TZID=America/New_York:20260912T213000
LOCATION:Audi Field
DESCRIPTION:Tempat menonton DC United vs Atlanta United di Liga Sepakbola U
 tama Amerika Serika. Siaran langsung dan jadwal TV.\nhttps://streamradar.so
 ccer/id/match/5505162/dc-united-vs-atlanta-united/
URL;VALUE=URI:https://streamradar.soccer/id/match/5505162/dc-united-vs-atla
 nta-united/
STATUS:CONFIRMED
END:VEVENT
END:VCALENDAR
