BEGIN:VCALENDAR
VERSION:2.0
PRODID:-//StreamRadar//Match Calendar//EN
CALSCALE:GREGORIAN
METHOD:PUBLISH
X-WR-CALNAME:Inter Miami vs Atlanta United
X-WR-TIMEZONE:America/New_York
BEGIN:VEVENT
UID:match-5505135@streamradar.soccer
SUMMARY:Inter Miami vs Atlanta United
DTSTAMP:20260421T170521Z
DTSTART;TZID=America/New_York:20260905T193000
DTEND;TZID=America/New_York:20260905T213000
LOCATION:Nu Stadium
DESCRIPTION:Tempat menonton Inter Miami vs Atlanta United di Liga Sepakbola
  Utama Amerika Serika. Siaran langsung dan jadwal TV.\nhttps://streamradar.
 soccer/id/match/5505135/inter-miami-vs-atlanta-united/
URL;VALUE=URI:https://streamradar.soccer/id/match/5505135/inter-miami-vs-at
 lanta-united/
STATUS:CONFIRMED
END:VEVENT
END:VCALENDAR
