BEGIN:VCALENDAR
VERSION:2.0
PRODID:-//StreamRadar//Match Calendar//EN
CALSCALE:GREGORIAN
METHOD:PUBLISH
X-WR-CALNAME:Charlotte vs Houston Dynamo
X-WR-TIMEZONE:America/New_York
BEGIN:VEVENT
UID:match-5505132@streamradar.soccer
SUMMARY:Charlotte vs Houston Dynamo
DTSTAMP:20260422T044034Z
DTSTART;TZID=America/New_York:20260905T193000
DTEND;TZID=America/New_York:20260905T213000
LOCATION:Bank of America Stadium
DESCRIPTION:Tempat menonton Charlotte vs Houston Dynamo di Liga Sepakbola U
 tama Amerika Serika. Siaran langsung dan jadwal TV.\nhttps://streamradar.so
 ccer/id/match/5505132/charlotte-vs-houston-dynamo/
URL;VALUE=URI:https://streamradar.soccer/id/match/5505132/charlotte-vs-hous
 ton-dynamo/
STATUS:CONFIRMED
END:VEVENT
END:VCALENDAR
