BEGIN:VCALENDAR
VERSION:2.0
PRODID:-//StreamRadar//Match Calendar//EN
CALSCALE:GREGORIAN
METHOD:PUBLISH
X-WR-CALNAME:GrÃªmio vs Vasco da Gama
X-WR-TIMEZONE:America/New_York
BEGIN:VEVENT
UID:match-5504557@streamradar.soccer
SUMMARY:GrÃªmio vs Vasco da Gama
DTSTAMP:20260421T104241Z
DTSTART;TZID=America/New_York:20260913T160000
DTEND;TZID=America/New_York:20260913T180000
DESCRIPTION:Tempat menonton GrÃªmio vs Vasco Da Gama di Brasil - BrasileirÃ
 £o. Siaran langsung dan jadwal TV.\nhttps://streamradar.soccer/id/match/550
 4557/gremio-vs-vasco-da-gama/
URL;VALUE=URI:https://streamradar.soccer/id/match/5504557/gremio-vs-vasco-d
 a-gama/
STATUS:CONFIRMED
END:VEVENT
END:VCALENDAR
