BEGIN:VCALENDAR
VERSION:2.0
PRODID:-//StreamRadar//Match Calendar//EN
CALSCALE:GREGORIAN
METHOD:PUBLISH
X-WR-CALNAME:Estudiantes vs Platense
X-WR-TIMEZONE:America/New_York
BEGIN:VEVENT
UID:match-5504177@streamradar.soccer
SUMMARY:Estudiantes vs Platense
DTSTAMP:20260421T050501Z
DTSTART;TZID=America/New_York:20260913T160000
DTEND;TZID=America/New_York:20260913T180000
LOCATION:Estadio Jorge Luis Hirschi
DESCRIPTION:Tempat menonton Estudiantes vs Platense di Argentina - Primera 
 División Argentina. Siaran langsung dan jadwal TV.\nhttps://streamradar.so
 ccer/id/match/5504177/estudiantes-vs-platense/
URL;VALUE=URI:https://streamradar.soccer/id/match/5504177/estudiantes-vs-pl
 atense/
STATUS:CONFIRMED
END:VEVENT
END:VCALENDAR
