BEGIN:VCALENDAR
VERSION:2.0
PRODID:-//StreamRadar//Match Calendar//EN
CALSCALE:GREGORIAN
METHOD:PUBLISH
X-WR-CALNAME:Orange County vs El Paso Locomotive
X-WR-TIMEZONE:America/New_York
BEGIN:VEVENT
UID:match-5620829@streamradar.soccer
SUMMARY:Orange County vs El Paso Locomotive
DTSTAMP:20260424T171411Z
DTSTART;TZID=America/New_York:20260425T220000
DTEND;TZID=America/New_York:20260426T000000
DESCRIPTION:Où regarder Orange County vs El Paso Locomotive en États-Unis
  - USL Cup. Diffusion en direct et programme TV.\nhttps://streamradar.socce
 r/fr/match/5620829/orange-county-vs-el-paso-locomotive/
URL;VALUE=URI:https://streamradar.soccer/fr/match/5620829/orange-county-vs-
 el-paso-locomotive/
STATUS:CONFIRMED
END:VEVENT
END:VCALENDAR
