BEGIN:VCALENDAR
VERSION:2.0
PRODID:-//StreamRadar//Match Calendar//EN
CALSCALE:GREGORIAN
METHOD:PUBLISH
X-WR-CALNAME:Talasgücü Belediyespor vs Mazıdağı Fosfatspor
X-WR-TIMEZONE:America/New_York
BEGIN:VEVENT
UID:match-5620200@streamradar.soccer
SUMMARY:Talasgücü Belediyespor vs Mazıdağı Fosfatspor
DTSTAMP:20260424T160354Z
DTSTART;TZID=America/New_York:20260427T130000
DTEND;TZID=America/New_York:20260427T150000
LOCATION:Vali Nihat Canpolat Spor Tesisleri Sümer Stadi 1 (Kayseri)
DESCRIPTION:Où regarder Talasgücü Belediyespor vs Mazıdağı Fosfatspor
  en Turquie - 3. Lig. Diffusion en direct et programme TV.\nhttps://streamr
 adar.soccer/fr/match/5620200/talasg-c-belediyespor-vs-maz-da-fosfatspor/
URL;VALUE=URI:https://streamradar.soccer/fr/match/5620200/talasg-c-belediye
 spor-vs-maz-da-fosfatspor/
STATUS:CONFIRMED
END:VEVENT
END:VCALENDAR
