BEGIN:VCALENDAR
VERSION:2.0
PRODID:-//StreamRadar//Match Calendar//EN
CALSCALE:GREGORIAN
METHOD:PUBLISH
X-WR-CALNAME:Azam vs Tanzania Prisons
X-WR-TIMEZONE:America/New_York
BEGIN:VEVENT
UID:match-5619564@streamradar.soccer
SUMMARY:Azam vs Tanzania Prisons
DTSTAMP:20260423T233711Z
DTSTART;TZID=America/New_York:20260522T113000
DTEND;TZID=America/New_York:20260522T133000
LOCATION:Azam Complex Stadium
DESCRIPTION:Où regarder Azam vs Tanzania Prisons en Tanzania Premier Leagu
 e. Diffusion en direct et programme TV.\nhttps://streamradar.soccer/fr/matc
 h/5619564/azam-vs-tanzania-prisons/
URL;VALUE=URI:https://streamradar.soccer/fr/match/5619564/azam-vs-tanzania-
 prisons/
STATUS:CONFIRMED
END:VEVENT
END:VCALENDAR
