BEGIN:VCALENDAR
VERSION:2.0
PRODID:-//StreamRadar//Match Calendar//EN
CALSCALE:GREGORIAN
METHOD:PUBLISH
X-WR-CALNAME:Huima / Urho vs KuPS Akatemia
X-WR-TIMEZONE:America/New_York
BEGIN:VEVENT
UID:match-5619538@streamradar.soccer
SUMMARY:Huima / Urho vs KuPS Akatemia
DTSTAMP:20260423T140017Z
DTSTART;TZID=America/New_York:20260428T113000
DTEND;TZID=America/New_York:20260428T133000
LOCATION:Äänekosken Keskuskenttä nurmi (Äänekoski)
DESCRIPTION:Où regarder Huima / Urho vs KuPS Akatemia en Finlande - Suomen
  Cup. Diffusion en direct et programme TV.\nhttps://streamradar.soccer/fr/m
 atch/5619538/huima-urho-vs-kups-akatemia/
URL;VALUE=URI:https://streamradar.soccer/fr/match/5619538/huima-urho-vs-kup
 s-akatemia/
STATUS:CONFIRMED
END:VEVENT
END:VCALENDAR
