BEGIN:VCALENDAR
VERSION:2.0
PRODID:-//StreamRadar//Match Calendar//EN
CALSCALE:GREGORIAN
METHOD:PUBLISH
X-WR-CALNAME:GBK vs Jaro
X-WR-TIMEZONE:America/New_York
BEGIN:VEVENT
UID:match-5619537@streamradar.soccer
SUMMARY:GBK vs Jaro
DTSTAMP:20260423T140354Z
DTSTART;TZID=America/New_York:20260428T113000
DTEND;TZID=America/New_York:20260428T133000
LOCATION:Kokkolan keskuskentta
DESCRIPTION:Où regarder GBK vs Jaro en Finlande - Suomen Cup. Diffusion en
  direct et programme TV.\nhttps://streamradar.soccer/fr/match/5619537/gbk-v
 s-jaro/
URL;VALUE=URI:https://streamradar.soccer/fr/match/5619537/gbk-vs-jaro/
STATUS:CONFIRMED
END:VEVENT
END:VCALENDAR
