BEGIN:VCALENDAR
VERSION:2.0
PRODID:-//StreamRadar//Match Calendar//EN
CALSCALE:GREGORIAN
METHOD:PUBLISH
X-WR-CALNAME:Hubei Istar vs Guangxi Hengchen
X-WR-TIMEZONE:America/New_York
BEGIN:VEVENT
UID:match-5618923@streamradar.soccer
SUMMARY:Hubei Istar vs Guangxi Hengchen
DTSTAMP:20260423T211906Z
DTSTART;TZID=America/New_York:20260515T030000
DTEND;TZID=America/New_York:20260515T050000
LOCATION:Xinhua Road Sports Center
DESCRIPTION:Où regarder Hubei Istar vs Guangxi Hengchen en FA Cup. Diffusi
 on en direct et programme TV.\nhttps://streamradar.soccer/fr/match/5618923/
 hubei-istar-vs-guangxi-hengchen/
URL;VALUE=URI:https://streamradar.soccer/fr/match/5618923/hubei-istar-vs-gu
 angxi-hengchen/
STATUS:CONFIRMED
END:VEVENT
END:VCALENDAR
