BEGIN:VCALENDAR
VERSION:2.0
PRODID:-//StreamRadar//Match Calendar//EN
CALSCALE:GREGORIAN
METHOD:PUBLISH
X-WR-CALNAME:Canon vs Panthère
X-WR-TIMEZONE:America/New_York
BEGIN:VEVENT
UID:match-5618907@streamradar.soccer
SUMMARY:Canon vs Panthère
DTSTAMP:20260422T113501Z
DTSTART;TZID=America/New_York:20260504T110000
DTEND;TZID=America/New_York:20260504T130000
DESCRIPTION:Où regarder Canon vs Panthère en Cameroun - Elite ONE. Diffus
 ion en direct et programme TV.\nhttps://streamradar.soccer/fr/match/5618907
 /canon-vs-panthere/
URL;VALUE=URI:https://streamradar.soccer/fr/match/5618907/canon-vs-panthere
 /
STATUS:CONFIRMED
END:VEVENT
END:VCALENDAR
