BEGIN:VCALENDAR
VERSION:2.0
PRODID:-//StreamRadar//Match Calendar//EN
CALSCALE:GREGORIAN
METHOD:PUBLISH
X-WR-CALNAME:Pars Jam Bushehr vs Havadar
X-WR-TIMEZONE:America/New_York
BEGIN:VEVENT
UID:match-5618857@streamradar.soccer
SUMMARY:Pars Jam Bushehr vs Havadar
DTSTAMP:20260422T105037Z
DTSTART;TZID=America/New_York:20260514T093000
DTEND;TZID=America/New_York:20260514T113000
DESCRIPTION:Où regarder Pars Jam Bushehr vs Havadar en Iran - Azadegan Lea
 gue. Diffusion en direct et programme TV.\nhttps://streamradar.soccer/fr/ma
 tch/5618857/pars-jam-bushehr-vs-havadar/
URL;VALUE=URI:https://streamradar.soccer/fr/match/5618857/pars-jam-bushehr-
 vs-havadar/
STATUS:CONFIRMED
END:VEVENT
END:VCALENDAR
