BEGIN:VCALENDAR
VERSION:2.0
PRODID:-//StreamRadar//Match Calendar//EN
CALSCALE:GREGORIAN
METHOD:PUBLISH
X-WR-CALNAME:Niroye Zamini vs Damash Gilanian
X-WR-TIMEZONE:America/New_York
BEGIN:VEVENT
UID:match-5618853@streamradar.soccer
SUMMARY:Niroye Zamini vs Damash Gilanian
DTSTAMP:20260422T105048Z
DTSTART;TZID=America/New_York:20260514T090000
DTEND;TZID=America/New_York:20260514T110000
DESCRIPTION:Où regarder Niroye Zamini vs Damash Gilanian en Iran - Azadega
 n League. Diffusion en direct et programme TV.\nhttps://streamradar.soccer/
 fr/match/5618853/niroye-zamini-vs-damash-gilanian/
URL;VALUE=URI:https://streamradar.soccer/fr/match/5618853/niroye-zamini-vs-
 damash-gilanian/
STATUS:CONFIRMED
END:VEVENT
END:VCALENDAR
