BEGIN:VCALENDAR
VERSION:2.0
PRODID:-//StreamRadar//Match Calendar//EN
CALSCALE:GREGORIAN
METHOD:PUBLISH
X-WR-CALNAME:Navad Urmia vs Shenavarsazi Qeshm
X-WR-TIMEZONE:America/New_York
BEGIN:VEVENT
UID:match-5618852@streamradar.soccer
SUMMARY:Navad Urmia vs Shenavarsazi Qeshm
DTSTAMP:20260422T110240Z
DTSTART;TZID=America/New_York:20260514T083000
DTEND;TZID=America/New_York:20260514T103000
DESCRIPTION:Où regarder Navad Urmia vs Shenavarsazi Qeshm en Iran - Azadeg
 an League. Diffusion en direct et programme TV.\nhttps://streamradar.soccer
 /fr/match/5618852/navad-urmia-vs-shenavarsazi-qeshm/
URL;VALUE=URI:https://streamradar.soccer/fr/match/5618852/navad-urmia-vs-sh
 enavarsazi-qeshm/
STATUS:CONFIRMED
END:VEVENT
END:VCALENDAR
