BEGIN:VCALENDAR
VERSION:2.0
PRODID:-//StreamRadar//Match Calendar//EN
CALSCALE:GREGORIAN
METHOD:PUBLISH
X-WR-CALNAME:Hapoel Ramat Gan vs Maccabi Petah Tikva
X-WR-TIMEZONE:America/New_York
BEGIN:VEVENT
UID:match-5618812@streamradar.soccer
SUMMARY:Hapoel Ramat Gan vs Maccabi Petah Tikva
DTSTAMP:20260422T114237Z
DTSTART;TZID=America/New_York:20260505T120000
DTEND;TZID=America/New_York:20260505T140000
DESCRIPTION:Où regarder Hapoel Ramat Gan vs Maccabi Petah Tikva en Israël
  - Liga Leumit. Diffusion en direct et programme TV.\nhttps://streamradar.s
 occer/fr/match/5618812/hapoel-ramat-gan-vs-maccabi-petah-tikva/
URL;VALUE=URI:https://streamradar.soccer/fr/match/5618812/hapoel-ramat-gan-
 vs-maccabi-petah-tikva/
STATUS:CONFIRMED
END:VEVENT
END:VCALENDAR
