BEGIN:VCALENDAR
VERSION:2.0
PRODID:-//StreamRadar//Match Calendar//EN
CALSCALE:GREGORIAN
METHOD:PUBLISH
X-WR-CALNAME:Bnei Yehuda vs Hapoel Rishon LeZion
X-WR-TIMEZONE:America/New_York
BEGIN:VEVENT
UID:match-5618808@streamradar.soccer
SUMMARY:Bnei Yehuda vs Hapoel Rishon LeZion
DTSTAMP:20260422T133702Z
DTSTART;TZID=America/New_York:20260501T090000
DTEND;TZID=America/New_York:20260501T110000
DESCRIPTION:Où regarder Bnei Yehuda vs Hapoel Rishon LeZion en Israël - L
 iga Leumit. Diffusion en direct et programme TV.\nhttps://streamradar.socce
 r/fr/match/5618808/bnei-yehuda-vs-hapoel-rishon-lezion/
URL;VALUE=URI:https://streamradar.soccer/fr/match/5618808/bnei-yehuda-vs-ha
 poel-rishon-lezion/
STATUS:CONFIRMED
END:VEVENT
END:VCALENDAR
