BEGIN:VCALENDAR
VERSION:2.0
PRODID:-//StreamRadar//Match Calendar//EN
CALSCALE:GREGORIAN
METHOD:PUBLISH
X-WR-CALNAME:Hapoel Ra'anana vs Hapoel Hadera
X-WR-TIMEZONE:America/New_York
BEGIN:VEVENT
UID:match-5618795@streamradar.soccer
SUMMARY:Hapoel Ra'anana vs Hapoel Hadera
DTSTAMP:20260422T113721Z
DTSTART;TZID=America/New_York:20260514T120000
DTEND;TZID=America/New_York:20260514T140000
DESCRIPTION:Où regarder Hapoel Ra'anana vs Hapoel Hadera en Israël - Liga
  Leumit. Diffusion en direct et programme TV.\nhttps://streamradar.soccer/f
 r/match/5618795/hapoel-raanana-vs-hapoel-hadera/
URL;VALUE=URI:https://streamradar.soccer/fr/match/5618795/hapoel-raanana-vs
 -hapoel-hadera/
STATUS:CONFIRMED
END:VEVENT
END:VCALENDAR
