BEGIN:VCALENDAR
VERSION:2.0
PRODID:-//StreamRadar//Match Calendar//EN
CALSCALE:GREGORIAN
METHOD:PUBLISH
X-WR-CALNAME:Hapoel Nazareth Illit vs Kafr Qasim
X-WR-TIMEZONE:America/New_York
BEGIN:VEVENT
UID:match-5618794@streamradar.soccer
SUMMARY:Hapoel Nazareth Illit vs Kafr Qasim
DTSTAMP:20260422T133710Z
DTSTART;TZID=America/New_York:20260511T120000
DTEND;TZID=America/New_York:20260511T140000
DESCRIPTION:Où regarder Hapoel Nazareth Illit vs Kafr Qasim en Israël - L
 iga Leumit. Diffusion en direct et programme TV.\nhttps://streamradar.socce
 r/fr/match/5618794/hapoel-nazareth-illit-vs-kafr-qasim/
URL;VALUE=URI:https://streamradar.soccer/fr/match/5618794/hapoel-nazareth-i
 llit-vs-kafr-qasim/
STATUS:CONFIRMED
END:VEVENT
END:VCALENDAR
