BEGIN:VCALENDAR
VERSION:2.0
PRODID:-//StreamRadar//Match Calendar//EN
CALSCALE:GREGORIAN
METHOD:PUBLISH
X-WR-CALNAME:Hapoel Nazareth Illit vs Hapoel Hadera
X-WR-TIMEZONE:America/New_York
BEGIN:VEVENT
UID:match-5618785@streamradar.soccer
SUMMARY:Hapoel Nazareth Illit vs Hapoel Hadera
DTSTAMP:20260422T113721Z
DTSTART;TZID=America/New_York:20260430T114500
DTEND;TZID=America/New_York:20260430T134500
DESCRIPTION:Où regarder Hapoel Nazareth Illit vs Hapoel Hadera en Israël 
 - Liga Leumit. Diffusion en direct et programme TV.\nhttps://streamradar.so
 ccer/fr/match/5618785/hapoel-nazareth-illit-vs-hapoel-hadera/
URL;VALUE=URI:https://streamradar.soccer/fr/match/5618785/hapoel-nazareth-i
 llit-vs-hapoel-hadera/
STATUS:CONFIRMED
END:VEVENT
END:VCALENDAR
