BEGIN:VCALENDAR
VERSION:2.0
PRODID:-//StreamRadar//Match Calendar//EN
CALSCALE:GREGORIAN
METHOD:PUBLISH
X-WR-CALNAME:Real Kashmir vs Gokulam
X-WR-TIMEZONE:America/New_York
BEGIN:VEVENT
UID:match-5618726@streamradar.soccer
SUMMARY:Real Kashmir vs Gokulam
DTSTAMP:20260422T120818Z
DTSTART;TZID=America/New_York:20260430T090000
DTEND;TZID=America/New_York:20260430T110000
LOCATION:TRC Polo Synthetic Turf Ground
DESCRIPTION:Où regarder Real Kashmir vs Gokulam en Inde - I-League. Diffus
 ion en direct et programme TV.\nhttps://streamradar.soccer/fr/match/5618726
 /real-kashmir-vs-gokulam/
URL;VALUE=URI:https://streamradar.soccer/fr/match/5618726/real-kashmir-vs-g
 okulam/
STATUS:CONFIRMED
END:VEVENT
END:VCALENDAR
