BEGIN:VCALENDAR
VERSION:2.0
PRODID:-//StreamRadar//Match Calendar//EN
CALSCALE:GREGORIAN
METHOD:PUBLISH
X-WR-CALNAME:Mladost Lučani vs Napredak
X-WR-TIMEZONE:America/New_York
BEGIN:VEVENT
UID:match-5618111@streamradar.soccer
SUMMARY:Mladost Lučani vs Napredak
DTSTAMP:20260421T114459Z
DTSTART;TZID=America/New_York:20260523T130000
DTEND;TZID=America/New_York:20260523T150000
DESCRIPTION:Où regarder Mladost Lučani vs Napredak en Serbie - Super Liga
 . Diffusion en direct et programme TV.\nhttps://streamradar.soccer/fr/match
 /5618111/mladost-lucani-vs-napredak/
URL;VALUE=URI:https://streamradar.soccer/fr/match/5618111/mladost-lucani-vs
 -napredak/
STATUS:CONFIRMED
END:VEVENT
END:VCALENDAR
