BEGIN:VCALENDAR
VERSION:2.0
PRODID:-//StreamRadar//Match Calendar//EN
CALSCALE:GREGORIAN
METHOD:PUBLISH
X-WR-CALNAME:Gent vs Union Saint-Gilloise
X-WR-TIMEZONE:America/New_York
BEGIN:VEVENT
UID:match-5618054@streamradar.soccer
SUMMARY:Gent vs Union Saint-Gilloise
DTSTAMP:20260421T135920Z
DTSTART;TZID=America/New_York:20260521T143000
DTEND;TZID=America/New_York:20260521T163000
LOCATION:Planet Group Arena
DESCRIPTION:Où regarder Gent vs Union Saint-Gilloise en Belgique - Pro Lea
 gue. Diffusion en direct et programme TV.\nhttps://streamradar.soccer/fr/ma
 tch/5618054/gent-vs-union-saint-gilloise/
URL;VALUE=URI:https://streamradar.soccer/fr/match/5618054/gent-vs-union-sai
 nt-gilloise/
STATUS:CONFIRMED
END:VEVENT
END:VCALENDAR
