BEGIN:VCALENDAR
VERSION:2.0
PRODID:-//StreamRadar//Match Calendar//EN
CALSCALE:GREGORIAN
METHOD:PUBLISH
X-WR-CALNAME:Matonense vs Santacruzense
X-WR-TIMEZONE:America/New_York
BEGIN:VEVENT
UID:match-5617577@streamradar.soccer
SUMMARY:Matonense vs Santacruzense
DTSTAMP:20260420T164738Z
DTSTART;TZID=America/New_York:20260426T090000
DTEND;TZID=America/New_York:20260426T110000
LOCATION:Estádio Dr. Hudson Buck Pereira (Matão\, São Paulo)
DESCRIPTION:Où regarder Matonense vs Santacruzense en Brésil - Campeonato
  Paulista Serie B. Diffusion en direct et programme TV.\nhttps://streamrada
 r.soccer/fr/match/5617577/matonense-vs-santacruzense/
URL;VALUE=URI:https://streamradar.soccer/fr/match/5617577/matonense-vs-sant
 acruzense/
STATUS:CONFIRMED
END:VEVENT
END:VCALENDAR
