BEGIN:VCALENDAR
VERSION:2.0
PRODID:-//StreamRadar//Match Calendar//EN
CALSCALE:GREGORIAN
METHOD:PUBLISH
X-WR-CALNAME:Bahardar vs Mekelakeya
X-WR-TIMEZONE:America/New_York
BEGIN:VEVENT
UID:match-5617502@streamradar.soccer
SUMMARY:Bahardar vs Mekelakeya
DTSTAMP:20260421T092017Z
DTSTART;TZID=America/New_York:20260519T090000
DTEND;TZID=America/New_York:20260519T110000
DESCRIPTION:Où regarder Bahardar vs Mekelakeya en Ethiopie - Premier Leagu
 e. Diffusion en direct et programme TV.\nhttps://streamradar.soccer/fr/matc
 h/5617502/bahardar-vs-mekelakeya/
URL;VALUE=URI:https://streamradar.soccer/fr/match/5617502/bahardar-vs-mekel
 akeya/
STATUS:CONFIRMED
END:VEVENT
END:VCALENDAR
