BEGIN:VCALENDAR
VERSION:2.0
PRODID:-//StreamRadar//Match Calendar//EN
CALSCALE:GREGORIAN
METHOD:PUBLISH
X-WR-CALNAME:Tritons Vallarta vs Racing Veracruz
X-WR-TIMEZONE:America/New_York
BEGIN:VEVENT
UID:match-5617496@streamradar.soccer
SUMMARY:Tritons Vallarta vs Racing Veracruz
DTSTAMP:20260421T063144Z
DTSTART;TZID=America/New_York:20260422T160000
DTEND;TZID=America/New_York:20260422T180000
LOCATION:Estadio Unidad Deportiva San José del Valle (San José del Valle)
DESCRIPTION:Où regarder Tritons Vallarta vs Racing Veracruz en Mexique - L
 iga MX. Diffusion en direct et programme TV.\nhttps://streamradar.soccer/fr
 /match/5617496/tritons-vallarta-vs-racing-veracruz/
URL;VALUE=URI:https://streamradar.soccer/fr/match/5617496/tritons-vallarta-
 vs-racing-veracruz/
STATUS:CONFIRMED
END:VEVENT
END:VCALENDAR
