BEGIN:VCALENDAR
VERSION:2.0
PRODID:-//StreamRadar//Match Calendar//EN
CALSCALE:GREGORIAN
METHOD:PUBLISH
X-WR-CALNAME:Lučko vs Varteks Varaždin
X-WR-TIMEZONE:America/New_York
BEGIN:VEVENT
UID:match-5617485@streamradar.soccer
SUMMARY:Lučko vs Varteks Varaždin
DTSTAMP:20260421T062837Z
DTSTART;TZID=America/New_York:20260502T110000
DTEND;TZID=America/New_York:20260502T130000
DESCRIPTION:Où regarder Lučko vs Varteks Varaždin en Croatie - Druga NL.
  Diffusion en direct et programme TV.\nhttps://streamradar.soccer/fr/match/
 5617485/lucko-vs-varteks-varazdin/
URL;VALUE=URI:https://streamradar.soccer/fr/match/5617485/lucko-vs-varteks-
 varazdin/
STATUS:CONFIRMED
END:VEVENT
END:VCALENDAR
