BEGIN:VCALENDAR
VERSION:2.0
PRODID:-//StreamRadar//Match Calendar//EN
CALSCALE:GREGORIAN
METHOD:PUBLISH
X-WR-CALNAME:Dugo Selo vs Uskok Klis
X-WR-TIMEZONE:America/New_York
BEGIN:VEVENT
UID:match-5617483@streamradar.soccer
SUMMARY:Dugo Selo vs Uskok Klis
DTSTAMP:20260421T092221Z
DTSTART;TZID=America/New_York:20260502T110000
DTEND;TZID=America/New_York:20260502T130000
DESCRIPTION:Où regarder Dugo Selo vs Uskok Klis en Croatie - Druga NL. Dif
 fusion en direct et programme TV.\nhttps://streamradar.soccer/fr/match/5617
 483/dugo-selo-vs-uskok-klis/
URL;VALUE=URI:https://streamradar.soccer/fr/match/5617483/dugo-selo-vs-usko
 k-klis/
STATUS:CONFIRMED
END:VEVENT
END:VCALENDAR
