BEGIN:VCALENDAR
VERSION:2.0
PRODID:-//StreamRadar//Match Calendar//EN
CALSCALE:GREGORIAN
METHOD:PUBLISH
X-WR-CALNAME:Newroz vs Al Quwa Al Jawiya
X-WR-TIMEZONE:America/New_York
BEGIN:VEVENT
UID:match-5617412@streamradar.soccer
SUMMARY:Newroz vs Al Quwa Al Jawiya
DTSTAMP:20260421T080835Z
DTSTART;TZID=America/New_York:20260427T100000
DTEND;TZID=America/New_York:20260427T120000
DESCRIPTION:Où regarder Newroz vs Al Quwa Al Jawiya en Iraqi Premier Leagu
 e. Diffusion en direct et programme TV.\nhttps://streamradar.soccer/fr/matc
 h/5617412/newroz-vs-al-quwa-al-jawiya/
URL;VALUE=URI:https://streamradar.soccer/fr/match/5617412/newroz-vs-al-quwa
 -al-jawiya/
STATUS:CONFIRMED
END:VEVENT
END:VCALENDAR
