BEGIN:VCALENDAR
VERSION:2.0
PRODID:-//StreamRadar//Match Calendar//EN
CALSCALE:GREGORIAN
METHOD:PUBLISH
X-WR-CALNAME:Colwyn Bay vs Penybont
X-WR-TIMEZONE:America/New_York
BEGIN:VEVENT
UID:match-5617402@streamradar.soccer
SUMMARY:Colwyn Bay vs Penybont
DTSTAMP:20260420T234055Z
DTSTART;TZID=America/New_York:20260425T074500
DTEND;TZID=America/New_York:20260425T094500
LOCATION:Llanelian Road
DESCRIPTION:Où regarder Colwyn Bay vs Penybont en Pays de Galles - Premier
  League. Diffusion en direct et programme TV.\nhttps://streamradar.soccer/f
 r/match/5617402/colwyn-bay-vs-penybont/
URL;VALUE=URI:https://streamradar.soccer/fr/match/5617402/colwyn-bay-vs-pen
 ybont/
STATUS:CONFIRMED
END:VEVENT
END:VCALENDAR
