BEGIN:VCALENDAR
VERSION:2.0
PRODID:-//StreamRadar//Match Calendar//EN
CALSCALE:GREGORIAN
METHOD:PUBLISH
X-WR-CALNAME:ÅIFK vs EBK
X-WR-TIMEZONE:America/New_York
BEGIN:VEVENT
UID:match-5616974@streamradar.soccer
SUMMARY:ÅIFK vs EBK
DTSTAMP:20260421T054636Z
DTSTART;TZID=America/New_York:20260424T113000
DTEND;TZID=America/New_York:20260424T133000
LOCATION:Urheilupuiston Ylakentta
DESCRIPTION:Où regarder ÅIFK vs EBK en Finlande - Kakkonen. Diffusion en 
 direct et programme TV.\nhttps://streamradar.soccer/fr/match/5616974/aifk-v
 s-ebk/
URL;VALUE=URI:https://streamradar.soccer/fr/match/5616974/aifk-vs-ebk/
STATUS:CONFIRMED
END:VEVENT
END:VCALENDAR
